BEGIN:VCALENDAR
VERSION:2.0
PRODID:-//Cuban Genealogy Club of Miami, Fl., Inc. - ECPv6.15.20//NONSGML v1.0//EN
CALSCALE:GREGORIAN
METHOD:PUBLISH
X-ORIGINAL-URL:https://www.cubangenclub.org
X-WR-CALDESC:Events for Cuban Genealogy Club of Miami, Fl., Inc.
REFRESH-INTERVAL;VALUE=DURATION:PT1H
X-Robots-Tag:noindex
X-PUBLISHED-TTL:PT1H
BEGIN:VTIMEZONE
TZID:America/New_York
BEGIN:DAYLIGHT
TZOFFSETFROM:-0500
TZOFFSETTO:-0400
TZNAME:EDT
DTSTART:20250309T070000
END:DAYLIGHT
BEGIN:STANDARD
TZOFFSETFROM:-0400
TZOFFSETTO:-0500
TZNAME:EST
DTSTART:20251102T060000
END:STANDARD
BEGIN:DAYLIGHT
TZOFFSETFROM:-0500
TZOFFSETTO:-0400
TZNAME:EDT
DTSTART:20260308T070000
END:DAYLIGHT
BEGIN:STANDARD
TZOFFSETFROM:-0400
TZOFFSETTO:-0500
TZNAME:EST
DTSTART:20261101T060000
END:STANDARD
BEGIN:DAYLIGHT
TZOFFSETFROM:-0500
TZOFFSETTO:-0400
TZNAME:EDT
DTSTART:20270314T070000
END:DAYLIGHT
BEGIN:STANDARD
TZOFFSETFROM:-0400
TZOFFSETTO:-0500
TZNAME:EST
DTSTART:20271107T060000
END:STANDARD
END:VTIMEZONE
BEGIN:VEVENT
DTSTART;TZID=America/New_York:20260207T140000
DTEND;TZID=America/New_York:20260207T170000
DTSTAMP:20260422T231512
CREATED:20260204T003324Z
LAST-MODIFIED:20260216T181629Z
UID:60747-1770472800-1770483600@www.cubangenclub.org
SUMMARY:CGC General Meeting - February 2026
DESCRIPTION:Topic: Celebrating our 25th Year!\nDate and Time: Saturday\, February 7\, 2026 at 2 PM via Zoom\nMembers will receive an email with the link for the meeting.
URL:https://www.cubangenclub.org/event/cgc-general-meeting-february-2025/
LOCATION:Via Zoom
CATEGORIES:CGC Meeting
ATTACH;FMTTYPE=image/jpeg:https://www.cubangenclub.org/wp-content/uploads/2021/06/calendar.jpg
END:VEVENT
END:VCALENDAR