BEGIN:VCALENDAR
VERSION:2.0
PRODID:-//Cuban Genealogy Club of Miami, Fl., Inc. - ECPv6.15.20//NONSGML v1.0//EN
CALSCALE:GREGORIAN
METHOD:PUBLISH
X-WR-CALNAME:Cuban Genealogy Club of Miami, Fl., Inc.
X-ORIGINAL-URL:https://www.cubangenclub.org
X-WR-CALDESC:Events for Cuban Genealogy Club of Miami, Fl., Inc.
REFRESH-INTERVAL;VALUE=DURATION:PT1H
X-Robots-Tag:noindex
X-PUBLISHED-TTL:PT1H
BEGIN:VTIMEZONE
TZID:America/New_York
BEGIN:DAYLIGHT
TZOFFSETFROM:-0500
TZOFFSETTO:-0400
TZNAME:EDT
DTSTART:20220313T070000
END:DAYLIGHT
BEGIN:STANDARD
TZOFFSETFROM:-0400
TZOFFSETTO:-0500
TZNAME:EST
DTSTART:20221106T060000
END:STANDARD
BEGIN:DAYLIGHT
TZOFFSETFROM:-0500
TZOFFSETTO:-0400
TZNAME:EDT
DTSTART:20230312T070000
END:DAYLIGHT
BEGIN:STANDARD
TZOFFSETFROM:-0400
TZOFFSETTO:-0500
TZNAME:EST
DTSTART:20231105T060000
END:STANDARD
BEGIN:DAYLIGHT
TZOFFSETFROM:-0500
TZOFFSETTO:-0400
TZNAME:EDT
DTSTART:20240310T070000
END:DAYLIGHT
BEGIN:STANDARD
TZOFFSETFROM:-0400
TZOFFSETTO:-0500
TZNAME:EST
DTSTART:20241103T060000
END:STANDARD
END:VTIMEZONE
BEGIN:VEVENT
DTSTART;TZID=America/New_York:20230531T080000
DTEND;TZID=America/New_York:20230603T170000
DTSTAMP:20260423T005744
CREATED:20230330T165908Z
LAST-MODIFIED:20230330T165908Z
UID:37683-1685520000-1685811600@www.cubangenclub.org
SUMMARY:National Genealogical Society 2023 Family History Conference
DESCRIPTION:The National Genealogical Society 2023 Family History Conference gives genealogists and family historians of all levels the insights necessary to take their research and writing to new heights and make exciting new discoveries. \nDesigned for family history researchers at all levels ─ beginner\, intermediate\, and advanced ─ the conference lectures feature \n\nrecords and repositories in Virginia and neighboring states\nresources and techniques for researching African American\, Indigenous Peoples\, Jewish\, and other ethnic groups\nlocal and federal government records including military\, tax\, and land records\nthe use of DNA to help determine relationships\nmethods to analyze and evaluate evidence\nand much more.\n\n\n\n\n\n\n\nNGS Member/Full Registration\nThursday\, 1 June 2023 – Saturday\, 3 June 2023\n$295     Early Bird Registration (through 31 March 2023) \n$325     Regular Registration (starting 1 April 2023) \nNon-Member/Full Registration\nThursday\, 1 June 2023 – Saturday\, 3 June 2023\n$375     Early Bird Registration (through 31 March 2023) \n$405     Regular Registration (starting 1 April 2023) \nOnline at Home Registration Fees\n\n\n\n\n\n\n\n\nOnline at Home sessions will be held 2-3 June 2023. Also included are access to the virtual Expo Hall throughout the week and the ability to network with both In-Person and Online at Home attendees. \n$215     NGS Member \n$265     Non-Member
URL:https://www.cubangenclub.org/event/national-genealogical-society-2023-family-history-conference/
LOCATION:Greater Richmond Convention Center\, 403 N 3rd St\, Richmond\, VA\, 23219\, United States
CATEGORIES:National Event
ATTACH;FMTTYPE=image/jpeg:https://www.cubangenclub.org/wp-content/uploads/2023/03/NGS-2023-conference.jpg
END:VEVENT
BEGIN:VEVENT
DTSTART;TZID=America/New_York:20230513T140000
DTEND;TZID=America/New_York:20230513T170000
DTSTAMP:20260423T005744
CREATED:20230202T191343Z
LAST-MODIFIED:20230202T191343Z
UID:36649-1683986400-1683997200@www.cubangenclub.org
SUMMARY:CGC General Meeting - May 2023
DESCRIPTION:Building Sources – Cuba – Santiago de Cuba \nJuan Tamayo\, a long-time CGC Member and contributor\, will share his knowledge of Santiago de Cuba. \nMembers Only: You can access the link via the email sent to you or by logging on to your account and clicking on “Event Registration.” \nIf you are a non-member and would like to join us as a guest\, please email secretary@cubangenclub.org. no later than March 31\, 2023.
URL:https://www.cubangenclub.org/event/cgc-general-meeting-may-2023/
LOCATION:Via Zoom
CATEGORIES:CGC Meeting
ATTACH;FMTTYPE=image/jpeg:https://www.cubangenclub.org/wp-content/uploads/2023/02/santiago-de-Cuba.jpg
END:VEVENT
BEGIN:VEVENT
DTSTART;TZID=America/New_York:20230503T120000
DTEND;TZID=America/New_York:20230614T120000
DTSTAMP:20260423T005744
CREATED:20230509T155604Z
LAST-MODIFIED:20230509T155735Z
UID:37900-1683115200-1686744000@www.cubangenclub.org
SUMMARY:2023 National Archives Genealogy Series
DESCRIPTION:Free and no registration!  \n\nAbout the Program\nIn recognition of public service\, we are offering a special Genealogy Series focused on both military and civilian records. The series will provide family history research tools for all skill levels along with a general overview of specific topics. Broadcasts of the program sessions will take place in May and June.  All are welcome! \nParticipation Instructions\nYou are invited to attend\, participate\, and ask questions during our sessions’ YouTube video premieres. Presentations are pre-recorded videos broadcast on NARA’s YouTube channel. Throughout the broadcast\, you will be able to ask questions\, and the presenter will respond in real-time. After the initial showing\, the video and handouts will remain available on their web page and YouTube. \n\nAttend via YouTube\nParticipate in chat\, by first logging into YouTube and then type your comments into the chat section
URL:https://www.cubangenclub.org/event/2023-national-archives-genealogy-series/
LOCATION:Online
CATEGORIES:National Event
ATTACH;FMTTYPE=image/jpeg:https://www.cubangenclub.org/wp-content/uploads/2023/05/IMG_0433.jpg
END:VEVENT
BEGIN:VEVENT
DTSTART;TZID=America/New_York:20230408T140000
DTEND;TZID=America/New_York:20230408T170000
DTSTAMP:20260423T005744
CREATED:20230202T190620Z
LAST-MODIFIED:20230202T190629Z
UID:36644-1680962400-1680973200@www.cubangenclub.org
SUMMARY:CGC General Meeting - April 2023
DESCRIPTION:Building Sources – Cuba – Las Villas Province \nAlina Garcia-Lapuerta\, a long-time CGC Member and contributor\, will share her knowledge about the town of Álvarez in the province of Las Villas. Álvarez is located 123 miles east of Havana. \nMembers Only: You can access the link via the email sent to you or by logging on to your account and clicking on “Event Registration.” \nIf you are a non-member and would like to join us as a guest\, please email secretary@cubangenclub.org. no later than March 31\, 2023.
URL:https://www.cubangenclub.org/event/cgc-general-meeting-april-2023/
LOCATION:Via Zoom
CATEGORIES:CGC Meeting
ATTACH;FMTTYPE=image/jpeg:https://www.cubangenclub.org/wp-content/uploads/2023/02/ceramic-escudo-las-villas-f.jpg
END:VEVENT
BEGIN:VEVENT
DTSTART;VALUE=DATE:20230331
DTEND;VALUE=DATE:20230403
DTSTAMP:20260423T005744
CREATED:20230127T183052Z
LAST-MODIFIED:20230127T183052Z
UID:36604-1680220800-1680479999@www.cubangenclub.org
SUMMARY:SCGS Genetic Genealogy Jamboree 2023
DESCRIPTION:There are two registration packages available for this conference – In Person and Online. Both registration packages give you access to the live presentations\, all of the recorded presentations\, and other events throughout the conference week\, such as social hours and the virtual round tables. \nGeneticFree is free education for all but you do need to register \nRegistration is mandatory at https://genealogyjamboree.com/
URL:https://www.cubangenclub.org/event/scgs-genetic-genealogy-jamboree-2023/
LOCATION:Online
CATEGORIES:National Event
ATTACH;FMTTYPE=image/jpeg:https://www.cubangenclub.org/wp-content/uploads/2023/01/0294-medium-res-poster-with-border-2023-genetic-jamboree-v2.jpg
END:VEVENT
BEGIN:VEVENT
DTSTART;TZID=America/New_York:20230304T140000
DTEND;TZID=America/New_York:20230304T170000
DTSTAMP:20260423T005744
CREATED:20230202T204953Z
LAST-MODIFIED:20230205T183748Z
UID:36652-1677938400-1677949200@www.cubangenclub.org
SUMMARY:CGC General Meeting - March 2023 - In-Person
DESCRIPTION:A Visit to Florida Internation University’s Special Collection\nPLEASE NOTE: THIS IS AN IN-PERSON MEETING\nMEMBERS ONLY\n  \nFIU’s Special Collection includes books\, manuscripts\, archives\, artifacts\, and media and spans the history\, development\, and culture of Latin America\, the Caribbean\, Miami\, and South Florida. Primary source materials are available in the reading room for discovery and research. For a listing of some of our collections visit Explore Our Collections. \nThe Collection is normally only open Monday through Friday from 10 AM to 4 PM. However\, Vicki Silvera\, Special Collections Department Head and friend of the CGC\, has graciously offered to open the collection to us for an afternoon of adventure and discovery! Don’t miss this great opportunity!! \nFor a behind-the-scenes look at Vicki’s passion for collections\, visit the University of Miami Libraries Caribbean Diaspora Oral History Collection’s interview \nIf you are NOT a member and would like to attend as a guest\, contact Martha Ibañez-Zervoudakis at secretary@cubangenclub.org NO LATER THAN MARCH 4th\, 2023.
URL:https://www.cubangenclub.org/event/cgc-general-meeting-march-2023/
LOCATION:Florida International University\, 11200 SW 8th Street\, GL 422\, Miami\, 33199\, United States
CATEGORIES:CGC Meeting
ATTACH;FMTTYPE=image/jpeg:https://www.cubangenclub.org/wp-content/uploads/2023/02/vicki-silvera.jpg
END:VEVENT
BEGIN:VEVENT
DTSTART;TZID=America/New_York:20230211T140000
DTEND;TZID=America/New_York:20230211T170000
DTSTAMP:20260423T005744
CREATED:20230120T193548Z
LAST-MODIFIED:20230120T193548Z
UID:36591-1676124000-1676134800@www.cubangenclub.org
SUMMARY:CGC General Meeting - February 2023
DESCRIPTION:“Curatos del Campo”: The Church and the Making of Havana’s Hinterland\, 1670-1750″ \nPresenter: Rich Denis \nMembers Only: You can access the link via the email sent to you or by logging on to your account and clicking on “Event Registration.” \nIf you are a non-member and would like to join us as a guest\, please email secretary@cubangenclub.org.
URL:https://www.cubangenclub.org/event/cgc-general-meeting-february-2023/
LOCATION:Via Zoom
CATEGORIES:CGC Meeting
ATTACH;FMTTYPE=image/jpeg:https://www.cubangenclub.org/wp-content/uploads/2023/01/hinterland.jpg
END:VEVENT
BEGIN:VEVENT
DTSTART;TZID=America/New_York:20230114T140000
DTEND;TZID=America/New_York:20230114T170000
DTSTAMP:20260423T005744
CREATED:20221117T151015Z
LAST-MODIFIED:20230101T201112Z
UID:36124-1673704800-1673715600@www.cubangenclub.org
SUMMARY:General Meeting - January 2023
DESCRIPTION:Topic: Kickstarting Your Genealogy in the New Year – Reviewing Strategies\n  \nMembers Only: You can access the link via the email sent to you or by logging on to your account and clicking on “Event Registration.” \nIf you are a non-member and would like to join us as a guest\, please email secretary@cubangenclub.org.
URL:https://www.cubangenclub.org/event/general-meeting-january-2023/
LOCATION:Via Zoom
CATEGORIES:CGC Meeting
ATTACH;FMTTYPE=image/jpeg:https://www.cubangenclub.org/wp-content/uploads/2021/04/fireworks-scaled.jpg
END:VEVENT
END:VCALENDAR