BEGIN:VCALENDAR
VERSION:2.0
PRODID:-//Cuban Genealogy Club of Miami, Fl., Inc. - ECPv6.15.20//NONSGML v1.0//EN
CALSCALE:GREGORIAN
METHOD:PUBLISH
X-WR-CALNAME:Cuban Genealogy Club of Miami, Fl., Inc.
X-ORIGINAL-URL:https://www.cubangenclub.org
X-WR-CALDESC:Events for Cuban Genealogy Club of Miami, Fl., Inc.
REFRESH-INTERVAL;VALUE=DURATION:PT1H
X-Robots-Tag:noindex
X-PUBLISHED-TTL:PT1H
BEGIN:VTIMEZONE
TZID:America/New_York
BEGIN:DAYLIGHT
TZOFFSETFROM:-0500
TZOFFSETTO:-0400
TZNAME:EDT
DTSTART:20250309T070000
END:DAYLIGHT
BEGIN:STANDARD
TZOFFSETFROM:-0400
TZOFFSETTO:-0500
TZNAME:EST
DTSTART:20251102T060000
END:STANDARD
BEGIN:DAYLIGHT
TZOFFSETFROM:-0500
TZOFFSETTO:-0400
TZNAME:EDT
DTSTART:20260308T070000
END:DAYLIGHT
BEGIN:STANDARD
TZOFFSETFROM:-0400
TZOFFSETTO:-0500
TZNAME:EST
DTSTART:20261101T060000
END:STANDARD
BEGIN:DAYLIGHT
TZOFFSETFROM:-0500
TZOFFSETTO:-0400
TZNAME:EDT
DTSTART:20270314T070000
END:DAYLIGHT
BEGIN:STANDARD
TZOFFSETFROM:-0400
TZOFFSETTO:-0500
TZNAME:EST
DTSTART:20271107T060000
END:STANDARD
END:VTIMEZONE
BEGIN:VEVENT
DTSTART;TZID=America/New_York:20260411T140000
DTEND;TZID=America/New_York:20260411T170000
DTSTAMP:20260423T004513
CREATED:20260401T015108Z
LAST-MODIFIED:20260410T180912Z
UID:60960-1775916000-1775926800@www.cubangenclub.org
SUMMARY:CGC General Meeting - April 2026
DESCRIPTION:Topic: Workshop on using Artificial Intelligence in Genealogy Research – Part Two\nDate and Time: Saturday\, April 11\, 2026 at 2 PM via Zoom\nMembers will receive an email with the link for the meeting \n 
URL:https://www.cubangenclub.org/event/cgc-general-meeting-april-2026/
LOCATION:Via Zoom
ATTACH;FMTTYPE=image/png:https://www.cubangenclub.org/wp-content/uploads/2026/03/AI-Genealogy-Image.png
END:VEVENT
END:VCALENDAR