BEGIN:VCALENDAR
VERSION:2.0
PRODID:-//Cuban Genealogy Club of Miami, Fl., Inc. - ECPv6.15.20//NONSGML v1.0//EN
CALSCALE:GREGORIAN
METHOD:PUBLISH
X-ORIGINAL-URL:https://www.cubangenclub.org
X-WR-CALDESC:Events for Cuban Genealogy Club of Miami, Fl., Inc.
REFRESH-INTERVAL;VALUE=DURATION:PT1H
X-Robots-Tag:noindex
X-PUBLISHED-TTL:PT1H
BEGIN:VTIMEZONE
TZID:America/New_York
BEGIN:DAYLIGHT
TZOFFSETFROM:-0500
TZOFFSETTO:-0400
TZNAME:EDT
DTSTART:20240310T070000
END:DAYLIGHT
BEGIN:STANDARD
TZOFFSETFROM:-0400
TZOFFSETTO:-0500
TZNAME:EST
DTSTART:20241103T060000
END:STANDARD
BEGIN:DAYLIGHT
TZOFFSETFROM:-0500
TZOFFSETTO:-0400
TZNAME:EDT
DTSTART:20250309T070000
END:DAYLIGHT
BEGIN:STANDARD
TZOFFSETFROM:-0400
TZOFFSETTO:-0500
TZNAME:EST
DTSTART:20251102T060000
END:STANDARD
BEGIN:DAYLIGHT
TZOFFSETFROM:-0500
TZOFFSETTO:-0400
TZNAME:EDT
DTSTART:20260308T070000
END:DAYLIGHT
BEGIN:STANDARD
TZOFFSETFROM:-0400
TZOFFSETTO:-0500
TZNAME:EST
DTSTART:20261101T060000
END:STANDARD
END:VTIMEZONE
BEGIN:VEVENT
DTSTART;TZID=America/New_York:20251021T190000
DTEND;TZID=America/New_York:20251021T210000
DTSTAMP:20260425T073003
CREATED:20251009T202133Z
LAST-MODIFIED:20251009T202133Z
UID:59796-1761073200-1761080400@www.cubangenclub.org
SUMMARY:Faith\, Family and Footprints - Tracing Pope Leo XIV's Louisiana Lineage Through Colonial and Catholic Records
DESCRIPTION:Join leading historians\, genealogists\, and archivists for an exclusive roundtable exploring the Creole and colonial ancestry of Pope Leo XIV. Discover how archival research uncovered centuries of family history stretching from Spain\, France\, and Germany to Cuba\, Canada\, and Louisiana. \nFeatured Panelists\nSarah Waits\, MA\, CA: Archdiocese of New Orleans\nJari Honora\, CG: Historic New Orleans Collection\nChristopher Child: American Ancestors\nLourdes Del Pino: Cuban Genealogy Club of Miami\nDr. Emilie Leumas\, PhD\, CA\, CRM: Ind. Consultant\nModerator: Dr. Wendy Gaudin: Xavier University \nEvent Highlights:\nOne-hour panel discussion with visuals\nAudience Q&A session\nExhibit viewing of Pope Leo XIV’s ancestry and Ursuline Convent collections\nLight refreshments
URL:https://www.cubangenclub.org/event/faith-family-and-footprints-tracing-pope-leo-xivs-louisiana-lineage-through-colonial-and-catholic-records/
LOCATION:Old Ursuline Convent Museum\, 1100 Chartres Street\, French Quarter\, New Orleans\, LA\, 70116\, United States
CATEGORIES:National Event
ATTACH;FMTTYPE=image/jpeg:https://www.cubangenclub.org/wp-content/uploads/2025/10/Faith_Family_and-Footprints_Event.jpeg
END:VEVENT
END:VCALENDAR